BEGIN:VCALENDAR
VERSION:2.0
PRODID:-//ChurchDev//Events//EN
CALSCALE:GREGORIAN
METHOD:PUBLISH
BEGIN:VEVENT
UID:3224-20260429@www.hphopchurch.org
SUMMARY:Fire on the Mountain Conference
DTSTART;VALUE=DATE:20260429
DTEND;VALUE=DATE:20260430
DESCRIPTION:https://www.hphopchurch.org/events/fire-on-the-mountain-conference-3/
LOCATION:W3941 Hwy. 33 Horicon\, WI  53032
URL:https://www.hphopchurch.org/events/fire-on-the-mountain-conference-3/
DTSTAMP:20260419T214027Z
END:VEVENT
END:VCALENDAR
