BEGIN:VCALENDAR
VERSION:2.0
PRODID:-//ChurchDev//Events//EN
CALSCALE:GREGORIAN
METHOD:PUBLISH
BEGIN:VEVENT
UID:3022-20230426@www.hphopchurch.org
SUMMARY:Wednesday Evening Service
DTSTART:20230426T230000Z
DTEND:20230427T003000Z
DESCRIPTION:Join us for our Wednesday Evening Service!\\n\\nhttps://www.hphopchurch.org/events/wednesday-evening-service/
LOCATION:W3941 Hwy. 33 Horicon\, WI  53032
URL:https://www.hphopchurch.org/events/wednesday-evening-service/
DTSTAMP:20260419T214049Z
END:VEVENT
END:VCALENDAR
