BEGIN:VCALENDAR
VERSION:2.0
PRODID:-//ChurchDev//Events//EN
CALSCALE:GREGORIAN
METHOD:PUBLISH
BEGIN:VEVENT
UID:3021-20230430@www.hphopchurch.org
SUMMARY:Sunday Evening Service
DTSTART:20230430T230000Z
DTEND:20230501T003000Z
DESCRIPTION:Join us for our Sunday Evening Service!\\n\\nhttps://www.hphopchurch.org/events/sunday-evening-service/
LOCATION:W3941 Hwy. 33 Horicon\, WI  53032
URL:https://www.hphopchurch.org/events/sunday-evening-service/
DTSTAMP:20260419T214027Z
END:VEVENT
END:VCALENDAR
