BEGIN:VCALENDAR
VERSION:2.0
PRODID:-//ChurchDev//Events//EN
CALSCALE:GREGORIAN
METHOD:PUBLISH
BEGIN:VEVENT
UID:3020-20230430@www.hphopchurch.org
SUMMARY:Sunday Morning Service
DTSTART:20230430T153000Z
DTEND:20230430T170000Z
DESCRIPTION:Join us for our Sunday Morning Service!\\n\\nhttps://www.hphopchurch.org/events/sunday-morning-service/
LOCATION:W3941 Hwy. 33 Horicon\, WI  53032
URL:https://www.hphopchurch.org/events/sunday-morning-service/
DTSTAMP:20260419T214105Z
END:VEVENT
END:VCALENDAR
