BEGIN:VCALENDAR
VERSION:2.0
PRODID:-//ChurchDev//Events//EN
CALSCALE:GREGORIAN
METHOD:PUBLISH
BEGIN:VEVENT
UID:2988-20230505@www.hphopchurch.org
SUMMARY:Friday Night Prayer
DTSTART:20230506T010000Z
DTEND:20230506T030000Z
DESCRIPTION:Join us for prayer every Friday night from 8-10 pm.\\n\\nhttps://www.hphopchurch.org/events/friday-night-prayer-nights/
LOCATION:W3941 Hwy. 33 Horicon\, WI  53032
URL:https://www.hphopchurch.org/events/friday-night-prayer-nights/
DTSTAMP:20260419T214104Z
END:VEVENT
END:VCALENDAR
